BEGIN:VCALENDAR
VERSION:2.0
PRODID:-//Plone.org//NONSGML plone.app.event//EN
X-WR-TIMEZONE:Europe/Madrid
BEGIN:VEVENT
SUMMARY:Pel·lícula "Pride"
DTSTART;TZID=Europe/Madrid;VALUE=DATE-TIME:20220629T200000
DTEND;TZID=Europe/Madrid;VALUE=DATE-TIME:20220629T210000
DTSTAMP;VALUE=DATE-TIME:20260420T110051Z
UID:a0bb220ab928d775925f17b78017599d
CREATED;VALUE=DATE-TIME:20220629T000000Z
CATEGORIES:Cinema
LOCATION:Espai l'Amistat - Carrer de Sant Antoni, 60
COMMENT:Preu: Gratuït
DESCRIPTION:28 Juny Dia Internacional Pels Drets del Col·lectiu LGTBI+
URL:https://premiademar.cat/document.php?id=23010
END:VEVENT
END:VCALENDAR