BEGIN:VCALENDAR
VERSION:2.0
PRODID:-//Plone.org//NONSGML plone.app.event//EN
X-WR-TIMEZONE:Europe/Madrid
BEGIN:VEVENT
SUMMARY:Gabriel i Qel. Qel Xiberta canta Gabriel Ferrater per a Gabriel Ferrater.
DTSTART;TZID=Europe/Madrid;VALUE=DATE-TIME:20221020T183000
DTEND;TZID=Europe/Madrid;VALUE=DATE-TIME:20221020T193000
DTSTAMP;VALUE=DATE-TIME:20260420T092823Z
UID:c764997ca8dabe50a362e86456e9b6e1
CREATED;VALUE=DATE-TIME:20221020T000000Z
CATEGORIES:Música,Teatre i altres espectacles
LOCATION:Biblioteca Martí Rosselló i Lloveras - Carretera de Vilassar de Dalt, 100
COMMENT:Preu: Gratuït
Durada: 50 minuts
DESCRIPTION:A càrrec de Qel Xiberta i Manu Corbalan
URL:https://premiademar.cat/document.php?id=23363
END:VEVENT
END:VCALENDAR