BEGIN:VCALENDAR
VERSION:2.0
PRODID:-//Plone.org//NONSGML plone.app.event//EN
X-WR-TIMEZONE:Europe/Madrid
BEGIN:VEVENT
SUMMARY:Primera trobada grup LGTBIQ+ de l'Espai Jove Can Salamó
DTSTART;TZID=Europe/Madrid;VALUE=DATE-TIME:20221006T173000
DTEND;TZID=Europe/Madrid;VALUE=DATE-TIME:20221006T183000
DTSTAMP;VALUE=DATE-TIME:20260420T092429Z
UID:c84873e6c3b4d8e377c4827b2e1805df
CREATED;VALUE=DATE-TIME:20221006T000000Z
CATEGORIES:Activitats
LOCATION:Can Salamó - c/ Enric Granados 43
COMMENT:Preu: Gratuït
URL:https://premiademar.cat/document.php?id=23378
END:VEVENT
END:VCALENDAR