BEGIN:VCALENDAR
VERSION:2.0
PRODID:-//Plone.org//NONSGML plone.app.event//EN
X-WR-TIMEZONE:Europe/Madrid
BEGIN:VEVENT
SUMMARY:Jornades Europees de Patrimoni: Visita a les reserves i al laboratori d'arqueologia
DTSTART;TZID=Europe/Madrid;VALUE=DATE-TIME:20221009T120000
DTEND;TZID=Europe/Madrid;VALUE=DATE-TIME:20221009T130000
DTSTAMP;VALUE=DATE-TIME:20260420T093329Z
UID:076964b2b3947564ea3516fe33748d68
CREATED;VALUE=DATE-TIME:20221009T000000Z
CATEGORIES:Museus i exposicions
LOCATION:Museu de l'Estampació de Premià de Mar - Joan XXIII, 2-8
ORGANIZER:Museu de l'Estampació
COMMENT:Preu: Gratuït
Durada: 1 h
URL:https://premiademar.cat/document.php?id=23426
END:VEVENT
END:VCALENDAR