BEGIN:VCALENDAR
VERSION:2.0
PRODID:-//Plone.org//NONSGML plone.app.event//EN
X-WR-TIMEZONE:Europe/Madrid
BEGIN:VEVENT
SUMMARY:Rita, la rínxols d'or i els tres ossos
DTSTART;TZID=Europe/Madrid;VALUE=DATE-TIME:20221009T180000
DTEND;TZID=Europe/Madrid;VALUE=DATE-TIME:20221009T190000
DTSTAMP;VALUE=DATE-TIME:20260420T113010Z
UID:3f6fc101ec62df9a74ef967974934575
CREATED;VALUE=DATE-TIME:20221009T000000Z
CATEGORIES:Activitats familiars,Teatre i altres espectacles
LOCATION:Patronat Teatre - Josep Paradeda, 26
COMMENT:Col·labora: Companyia  de titelles Binixiflat
Preu: 6&euro; soci
8&euro; no soci
Durada: 55 minuts
DESCRIPTION:A partir de 3 anys
URL:https://premiademar.cat/document.php?id=23518
END:VEVENT
END:VCALENDAR