BEGIN:VCALENDAR
VERSION:2.0
PRODID:-//Plone.org//NONSGML plone.app.event//EN
X-WR-TIMEZONE:Europe/Madrid
BEGIN:VEVENT
SUMMARY:Sedueix-te per seduir
DTSTART;TZID=Europe/Madrid;VALUE=DATE-TIME:20221201T173000
DTEND;TZID=Europe/Madrid;VALUE=DATE-TIME:20221201T183000
DTSTAMP;VALUE=DATE-TIME:20260424T223535Z
UID:b559403137cd02d02f6d7cdf33d2187f
CREATED;VALUE=DATE-TIME:20221201T000000Z
CATEGORIES:Activitats
LOCATION:Can Salamó - c/ Enric Granados 43
COMMENT:Preu: Gratuït
DESCRIPTION:Identifica el valor de les relacions interpersonals en l'àmbit afectivo-sexual.
URL:https://premiademar.cat/document.php?id=23780
END:VEVENT
END:VCALENDAR