BEGIN:VCALENDAR
VERSION:2.0
PRODID:-//Plone.org//NONSGML plone.app.event//EN
X-WR-TIMEZONE:Europe/Madrid
BEGIN:VEVENT
SUMMARY:El meu cos no entèn de cànons
DTSTART;TZID=Europe/Madrid;VALUE=DATE-TIME:20221221T170000
DTEND;TZID=Europe/Madrid;VALUE=DATE-TIME:20221221T180000
DTSTAMP;VALUE=DATE-TIME:20260424T131823Z
UID:7cdf0cd348922c427b6d72fb765110bb
CREATED;VALUE=DATE-TIME:20221221T000000Z
CATEGORIES:Activitats
LOCATION:Can Salamó - c/ Enric Granados 43
ORGANIZER:Espai Jove Can Salamó
Servei Escolta Jove
Ajuntament de Premià de Mar
COMMENT:Col·labora: Candela
Preu: Gratuït
Durada: 1'5h
DESCRIPTION:Taller d'autoestima
URL:https://premiademar.cat/document.php?id=23789
END:VEVENT
END:VCALENDAR