BEGIN:VCALENDAR
VERSION:2.0
PRODID:-//Plone.org//NONSGML plone.app.event//EN
X-WR-TIMEZONE:Europe/Madrid
BEGIN:VEVENT
SUMMARY:Activitat Sènior: Circuit urbà desembre 2022
DTSTART;TZID=Europe/Madrid;VALUE=DATE-TIME:20221212T090000
DTEND;TZID=Europe/Madrid;VALUE=DATE-TIME:20221212T100000
DTSTAMP;VALUE=DATE-TIME:20260424T104254Z
UID:f0caf60cc0bf50e5d18c0ee9097d5384
CREATED;VALUE=DATE-TIME:20221212T000000Z
CATEGORIES:Esports
LOCATION:Centre Esportiu Municipal (CEM) - Carrer Francesc Mas i Abril, 13 y 16
ORGANIZER:Centre Esportiu Municipal Premià
COMMENT:Col·labora: Ajuntament de Premià de Mar
Preu: Gratuït
DESCRIPTION:Activa la teva salut amb les caminades del Centre Esportiu Municipal Premià
URL:https://premiademar.cat/document.php?id=23823
END:VEVENT
END:VCALENDAR