BEGIN:VCALENDAR
VERSION:2.0
PRODID:-//Plone.org//NONSGML plone.app.event//EN
X-WR-TIMEZONE:Europe/Madrid
BEGIN:VEVENT
SUMMARY:Taller d'estampació de fanalets
DTSTART;TZID=Europe/Madrid;VALUE=DATE-TIME:20230103T110000
DTEND;TZID=Europe/Madrid;VALUE=DATE-TIME:20230103T120000
DTSTAMP;VALUE=DATE-TIME:20260425T192655Z
UID:e70fd7eceb4b22a51655243a8fec4f95
CREATED;VALUE=DATE-TIME:20221228T000000Z
CATEGORIES:Activitats familiars,Museus i exposicions
LOCATION:Museu de l'Estampació de Premià de Mar - Joan XXIII, 2-8
ORGANIZER:Museu de l'Estampació
COMMENT:Preu: 2&euro;
DESCRIPTION:Activitat familiar
URL:https://premiademar.cat/document.php?id=23849
END:VEVENT
END:VCALENDAR