BEGIN:VCALENDAR
VERSION:2.0
PRODID:-//Plone.org//NONSGML plone.app.event//EN
X-WR-TIMEZONE:Europe/Madrid
BEGIN:VEVENT
SUMMARY:Sala d'estudi
DTSTART;TZID=Europe/Madrid;VALUE=DATE-TIME:20230131T200000
DTEND;TZID=Europe/Madrid;VALUE=DATE-TIME:20230131T210000
DTSTAMP;VALUE=DATE-TIME:20260424T155715Z
UID:78f57bae099d3cbfcb5994ab47623d0c
CREATED;VALUE=DATE-TIME:20230102T000000Z
CATEGORIES:Lletres i diàlegs
LOCATION:Biblioteca Martí Rosselló i Lloveras - Carretera de Vilassar de Dalt, 100
COMMENT:Preu: Gratuït
Durada: Fins les 24 h
DESCRIPTION:Aforament limitat
URL:https://premiademar.cat/document.php?id=23911
END:VEVENT
END:VCALENDAR