BEGIN:VCALENDAR
VERSION:2.0
PRODID:-//Plone.org//NONSGML plone.app.event//EN
X-WR-TIMEZONE:Europe/Madrid
BEGIN:VEVENT
SUMMARY:Activitat sènior: circuit urbà gener 2023
DTSTART;TZID=Europe/Madrid;VALUE=DATE-TIME:20230109T090000
DTEND;TZID=Europe/Madrid;VALUE=DATE-TIME:20230109T100000
DTSTAMP;VALUE=DATE-TIME:20260425T192706Z
UID:89f01ef93dbf61c76a4d465924230f45
CREATED;VALUE=DATE-TIME:20230109T000000Z
CATEGORIES:Esports
LOCATION:Centre Esportiu Municipal (CEM) - Carrer Francesc Mas i Abril, 13 y 16
ORGANIZER:Centre Esportiu Municipal Premià
COMMENT:Col·labora: Ajuntament de Premià de Mar
Preu: Gratuït
DESCRIPTION:Activa la teva salut amb les caminades del Centre Esportiu Municipal Premià
URL:https://premiademar.cat/document.php?id=23944
END:VEVENT
END:VCALENDAR