BEGIN:VCALENDAR
VERSION:2.0
PRODID:-//Plone.org//NONSGML plone.app.event//EN
X-WR-TIMEZONE:Europe/Madrid
BEGIN:VEVENT
SUMMARY:Ballada de sardanes amb la Cobla Premià
DTSTART;TZID=Europe/Madrid;VALUE=DATE-TIME:20230212T113000
DTEND;TZID=Europe/Madrid;VALUE=DATE-TIME:20230212T123000
DTSTAMP;VALUE=DATE-TIME:20260419T212241Z
UID:d898e7aa5360a8134e3d5644221e9409
CREATED;VALUE=DATE-TIME:20230212T000000Z
CATEGORIES:Activitats familiars,Cultura popular,Dansa,Activitats
LOCATION:Plaça de l'Ajuntament - Plaça Ajuntament, 1
COMMENT:Col·labora: Amics de la Sardana
Preu: Gratuït
DESCRIPTION:Festa major d'hivern
URL:https://premiademar.cat/document.php?id=24125
END:VEVENT
END:VCALENDAR