BEGIN:VCALENDAR
VERSION:2.0
PRODID:-//Plone.org//NONSGML plone.app.event//EN
X-WR-TIMEZONE:Europe/Madrid
BEGIN:VEVENT
SUMMARY:El despertar dels Penjaculpes infantil i ball de la Disfressada
DTSTART;TZID=Europe/Madrid;VALUE=DATE-TIME:20230212T113000
DTEND;TZID=Europe/Madrid;VALUE=DATE-TIME:20230212T123000
DTSTAMP;VALUE=DATE-TIME:20260419T212136Z
UID:db964485b944b4a327117100480a6480
CREATED;VALUE=DATE-TIME:20230212T000000Z
CATEGORIES:Activitats familiars,Cultura popular,Activitats
LOCATION:Des del carrer Gibraltar, davant de Can Gravada
COMMENT:Col·labora: De Bòlit!
Preu: Gratuït
DESCRIPTION:Festa major d'hivern
URL:https://premiademar.cat/document.php?id=24126
END:VEVENT
END:VCALENDAR