BEGIN:VCALENDAR
VERSION:2.0
PRODID:-//Plone.org//NONSGML plone.app.event//EN
X-WR-TIMEZONE:Europe/Madrid
BEGIN:VEVENT
SUMMARY:Posem a Caldo! Els versots infantils al teatre!
DTSTART;TZID=Europe/Madrid;VALUE=DATE-TIME:20230212T200000
DTEND;TZID=Europe/Madrid;VALUE=DATE-TIME:20230212T210000
DTSTAMP;VALUE=DATE-TIME:20260419T212125Z
UID:bc0103890f6daf76bccfa78bff531f2a
CREATED;VALUE=DATE-TIME:20230212T000000Z
CATEGORIES:Activitats familiars,Cultura popular
LOCATION:Espai l'Amistat - Carrer de Sant Antoni, 60
COMMENT:Col·labora: De Bòlit!
Preu: Gratuït
DESCRIPTION:Festa major d'hivern
URL:https://premiademar.cat/document.php?id=24127
END:VEVENT
END:VCALENDAR