BEGIN:VCALENDAR
VERSION:2.0
PRODID:-//Plone.org//NONSGML plone.app.event//EN
X-WR-TIMEZONE:Europe/Madrid
BEGIN:VEVENT
SUMMARY:Cinema: As Bestas (VOSE)
DTSTART;TZID=Europe/Madrid;VALUE=DATE-TIME:20230213T173000
DTEND;TZID=Europe/Madrid;VALUE=DATE-TIME:20230213T183000
DTSTAMP;VALUE=DATE-TIME:20260419T212304Z
UID:ce46305034267c02d6ef59760fdd1bdd
CREATED;VALUE=DATE-TIME:20230212T000000Z
CATEGORIES:Cinema
LOCATION:Espai l'Amistat - Carrer de Sant Antoni, 60
COMMENT:Preu: 6,50&euro;
4,50&euro; (dilluns, dia de l'espectador)
URL:https://premiademar.cat/document.php?id=24243
END:VEVENT
END:VCALENDAR