BEGIN:VCALENDAR
VERSION:2.0
PRODID:-//Plone.org//NONSGML plone.app.event//EN
X-WR-TIMEZONE:Europe/Madrid
BEGIN:VEVENT
SUMMARY:Concert de Corals
DTSTART;TZID=Europe/Madrid;VALUE=DATE-TIME:20230420T180000
DTEND;TZID=Europe/Madrid;VALUE=DATE-TIME:20230420T190000
DTSTAMP;VALUE=DATE-TIME:20260424T192927Z
UID:dbef44fc7d4229cbff5182d7055ab7fe
CREATED;VALUE=DATE-TIME:20230420T000000Z
CATEGORIES:Música
LOCATION:Escola Municipal de Música - Carretera de Vilassar de Dalt, 52-54
COMMENT:Preu: Gratuït
URL:https://premiademar.cat/document.php?id=24632
END:VEVENT
END:VCALENDAR