BEGIN:VCALENDAR
VERSION:2.0
PRODID:-//Plone.org//NONSGML plone.app.event//EN
X-WR-TIMEZONE:Europe/Madrid
BEGIN:VEVENT
SUMMARY:Correfoc infantil
DTSTART;TZID=Europe/Madrid;VALUE=DATE-TIME:20230602T213000
DTEND;TZID=Europe/Madrid;VALUE=DATE-TIME:20230602T223000
DTSTAMP;VALUE=DATE-TIME:20260426T040220Z
UID:1829fa5994d367871b26cc232e8a8c59
CREATED;VALUE=DATE-TIME:20230602T000000Z
CATEGORIES:Activitats familiars,Cultura popular,Activitats
LOCATION:Recorregut: Porxo de la Lió, Joan Prim, Sant Pau, Miquel Moragas, Carrer de la Plaça, Gran via i Plaça PaÏsos Catalans - Joan Prim, 30
ORGANIZER:Ajuntament de Premià de Mar
COMMENT:Col·labora: De Bòlit!
Preu: GratuÏt
DESCRIPTION:Rebombori
URL:https://premiademar.cat/document.php?id=24855
END:VEVENT
END:VCALENDAR