BEGIN:VCALENDAR
VERSION:2.0
PRODID:-//Plone.org//NONSGML plone.app.event//EN
X-WR-TIMEZONE:Europe/Madrid
BEGIN:VEVENT
SUMMARY:Nits de veu: Mireia Vilaseca + Magalí Sare & Manel Fortià
DTSTART;TZID=Europe/Madrid;VALUE=DATE-TIME:20230722T203000
DTEND;TZID=Europe/Madrid;VALUE=DATE-TIME:20230722T213000
DTSTAMP;VALUE=DATE-TIME:20260426T041036Z
UID:e73d10d6ceae027df9f4979a18ac5e7f
CREATED;VALUE=DATE-TIME:20230722T000000Z
CATEGORIES:Música,Activitats
LOCATION:Jardins Can MaristanyEscola Municipal de Música - Carretera de Vilassar de Dalt, 52-54
ORGANIZER:Ajuntament de Premià de Mar
COMMENT:Preu: Venda anticipada: 10&euro; el mateix dia del concert a taquilla: 12&euro;
DESCRIPTION:Concert doble
URL:https://premiademar.cat/document.php?id=24869
END:VEVENT
END:VCALENDAR