BEGIN:VCALENDAR
VERSION:2.0
PRODID:-//Plone.org//NONSGML plone.app.event//EN
X-WR-TIMEZONE:Europe/Madrid
BEGIN:VEVENT
SUMMARY:3x3 Premià de Mar
DTSTART;TZID=Europe/Madrid;VALUE=DATE-TIME:20230722T000000
DTEND;TZID=Europe/Madrid;VALUE=DATE-TIME:20230722T010000
DTSTAMP;VALUE=DATE-TIME:20260426T040444Z
UID:15e554ae0c122a4d784c4a471fd5a67a
CREATED;VALUE=DATE-TIME:20230722T000000Z
CATEGORIES:Esports,Esport femení,Activitats familiars,Activitats
LOCATION:Plaça de la Sardana - Plaça de la Sardana
ORGANIZER:Agrupació Bàsquet Premià
COMMENT:Col·labora: Ajuntament de Premià de Mar
Preu: 50&euro; per equip
URL:https://premiademar.cat/document.php?id=24932
END:VEVENT
END:VCALENDAR