BEGIN:VCALENDAR
VERSION:2.0
PRODID:-//Plone.org//NONSGML plone.app.event//EN
X-WR-TIMEZONE:Europe/Madrid
BEGIN:VEVENT
SUMMARY:Obra teatre "Un fantasma inesperado"
DTSTART;TZID=Europe/Madrid;VALUE=DATE-TIME:20231006T200000
DTEND;TZID=Europe/Madrid;VALUE=DATE-TIME:20231006T210000
DTSTAMP;VALUE=DATE-TIME:20260425T190421Z
UID:f19ef51e5760e75e8878910f5ba6fd85
CREATED;VALUE=DATE-TIME:20231006T000000Z
CATEGORIES:Teatre i altres espectacles
LOCATION:Espai l'Amistat - Carrer de Sant Antoni, 60
ORGANIZER:Grup teatre Karismàtiks
COMMENT:Col·labora: Escola Montserrat, Espai Amistat
Preu: Des de 8&euro; (8 anticipada i 9 en taquilla)
Durada: 3 hores aproximadament
DESCRIPTION:Un fantasma inesperado
URL:https://premiademar.cat/document.php?id=25170
END:VEVENT
END:VCALENDAR