BEGIN:VCALENDAR
VERSION:2.0
PRODID:-//Plone.org//NONSGML plone.app.event//EN
X-WR-TIMEZONE:Europe/Madrid
BEGIN:VEVENT
SUMMARY:Enigma Garreta
DTSTART;TZID=Europe/Madrid;VALUE=DATE-TIME:20230922T200000
DTEND;TZID=Europe/Madrid;VALUE=DATE-TIME:20230922T210000
DTSTAMP;VALUE=DATE-TIME:20260422T215249Z
UID:f8d04fa40cac49844a47309fbdf95165
CREATED;VALUE=DATE-TIME:20230922T000000Z
CATEGORIES:Música,Teatre i altres espectacles
LOCATION:Espai l'Amistat - Carrer de Sant Antoni, 60
ORGANIZER:Coral l'Amistat i Ajuntament de Premià de Mar
COMMENT:Preu: 11&euro; anticipada
13,50&euro; el dia del concert
10&euro; amics grans
8&euro; amics joves
Durada: 1h
DESCRIPTION:XII Temporada de Música de l'Espai l'Amistat
URL:https://premiademar.cat/document.php?id=25178
END:VEVENT
END:VCALENDAR