BEGIN:VCALENDAR
VERSION:2.0
PRODID:-//Plone.org//NONSGML plone.app.event//EN
X-WR-TIMEZONE:Europe/Madrid
BEGIN:VEVENT
SUMMARY:Masterclass alta intensitat al CEMPremià
DTSTART;TZID=Europe/Madrid;VALUE=DATE-TIME:20231021T100000
DTEND;TZID=Europe/Madrid;VALUE=DATE-TIME:20231021T110000
DTSTAMP;VALUE=DATE-TIME:20260422T214232Z
UID:733e447a62c3a5f738f725424df282bd
CREATED;VALUE=DATE-TIME:20231021T000000Z
CATEGORIES:Esports,Activitats
LOCATION:CEMP
ORGANIZER:CEMPremià
COMMENT:Col·labora: Ajuntament de Premià de Mar
Preu: Gratuït
Durada: de 10 a 11.30 hores
DESCRIPTION:Treballa tots els grups musculars en exercicis de càrdiovasculars i de força
URL:https://premiademar.cat/document.php?id=25235
END:VEVENT
END:VCALENDAR