BEGIN:VCALENDAR
VERSION:2.0
PRODID:-//Plone.org//NONSGML plone.app.event//EN
X-WR-TIMEZONE:Europe/Madrid
BEGIN:VEVENT
SUMMARY:X Trobada de l'agulla i III de manualitats
DTSTART;TZID=Europe/Madrid;VALUE=DATE-TIME:20231021T000000
DTEND;TZID=Europe/Madrid;VALUE=DATE-TIME:20231021T010000
DTSTAMP;VALUE=DATE-TIME:20260422T212113Z
UID:f5ed0add814c26a40878ae1a36e0b0f4
CREATED;VALUE=DATE-TIME:20231021T000000Z
CATEGORIES:Mostra,Activitats
LOCATION:Plaça Nova - Plaça Nova
ORGANIZER:CONEX Premià de Mar
COMMENT:Col·labora: Ajuntament de Premià de Mar
Preu: Gratuït
Durada: De 10 a 13 h
URL:https://premiademar.cat/document.php?id=25236
END:VEVENT
END:VCALENDAR