BEGIN:VCALENDAR
VERSION:2.0
PRODID:-//Plone.org//NONSGML plone.app.event//EN
X-WR-TIMEZONE:Europe/Madrid
BEGIN:VEVENT
SUMMARY:Domina el teu Gmail des del mòbil
DTSTART;TZID=Europe/Madrid;VALUE=DATE-TIME:20231024T100000
DTEND;TZID=Europe/Madrid;VALUE=DATE-TIME:20231024T110000
DTSTAMP;VALUE=DATE-TIME:20260422T214422Z
UID:580218f8d8b7db2bd6c6839c47ddc574
CREATED;VALUE=DATE-TIME:20231017T000000Z
CATEGORIES:Cursos
LOCATION:Biblioteca Martí Rosselló i Lloveras - Carretera de Vilassar de Dalt, 100
COMMENT:Preu: Gratuït
Durada: De 10 a 12 h
URL:https://premiademar.cat/document.php?id=25275
END:VEVENT
END:VCALENDAR