BEGIN:VCALENDAR
VERSION:2.0
PRODID:-//Plone.org//NONSGML plone.app.event//EN
X-WR-TIMEZONE:Europe/Madrid
BEGIN:VEVENT
SUMMARY:Exposició d'art digital
DTSTART;TZID=Europe/Madrid;VALUE=DATE-TIME:20231008T000000
DTEND;TZID=Europe/Madrid;VALUE=DATE-TIME:20231008T010000
DTSTAMP;VALUE=DATE-TIME:20260425T190030Z
UID:68210a1c8510d6f8a368780204c446bf
CREATED;VALUE=DATE-TIME:20231003T000000Z
CATEGORIES:Museus i exposicions
LOCATION:Biblioteca Martí Rosselló i Lloveras - Carretera de Vilassar de Dalt, 100
COMMENT:Preu: Gratuït
URL:https://premiademar.cat/document.php?id=25276
END:VEVENT
END:VCALENDAR