BEGIN:VCALENDAR
VERSION:2.0
PRODID:-//Plone.org//NONSGML plone.app.event//EN
X-WR-TIMEZONE:Europe/Madrid
BEGIN:VEVENT
SUMMARY:Formació de tutors i tutores de joc temporada 2023-2024
DTSTART;TZID=Europe/Madrid;VALUE=DATE-TIME:20231021T093000
DTEND;TZID=Europe/Madrid;VALUE=DATE-TIME:20231021T103000
DTSTAMP;VALUE=DATE-TIME:20260422T212126Z
UID:a81f6db8f1631934a11a7ceee6807aeb
CREATED;VALUE=DATE-TIME:20231021T000000Z
CATEGORIES:Esports,Activitats
LOCATION:Pavelló d'Esports - Camí del Mig, 62 08330 Premià de Mar
ORGANIZER:Consell Esportiu del Maresme
COMMENT:Col·labora: Ajuntament de Premià de Mar
Preu: Gratuït
URL:https://premiademar.cat/document.php?id=25321
END:VEVENT
END:VCALENDAR