BEGIN:VCALENDAR
VERSION:2.0
PRODID:-//Plone.org//NONSGML plone.app.event//EN
X-WR-TIMEZONE:Europe/Madrid
BEGIN:VEVENT
SUMMARY:Canvi d'estació: Menopausa i benestar emocional
DTSTART;TZID=Europe/Madrid;VALUE=DATE-TIME:20231017T160000
DTEND;TZID=Europe/Madrid;VALUE=DATE-TIME:20231017T170000
DTSTAMP;VALUE=DATE-TIME:20260422T215304Z
UID:3a8b20e16567d46c711b42887845e81e
CREATED;VALUE=DATE-TIME:20231017T000000Z
CATEGORIES:Conferència,Activitats
LOCATION:La Casa de la Dona - C Joan XXIII, 2
COMMENT:Col·labora: Natàlia Farré (Referent de Benestar Emocional i Comunitari - EAP Premià de Mar)
Preu: Gratuit
URL:https://premiademar.cat/document.php?id=25341
END:VEVENT
END:VCALENDAR