BEGIN:VCALENDAR
VERSION:2.0
PRODID:-//Plone.org//NONSGML plone.app.event//EN
X-WR-TIMEZONE:Europe/Madrid
BEGIN:VEVENT
SUMMARY:Taller i Concert de Bluegrass
DTSTART;TZID=Europe/Madrid;VALUE=DATE-TIME:20231017T200000
DTEND;TZID=Europe/Madrid;VALUE=DATE-TIME:20231017T210000
DTSTAMP;VALUE=DATE-TIME:20260422T215012Z
UID:1e2816b7d908906050a7fabd5206661c
CREATED;VALUE=DATE-TIME:20231017T000000Z
CATEGORIES:Música
LOCATION:Auditori de l'Escola Municipal de Música - Carretera Vilassar de Dalt, 52
ORGANIZER:Escola Municipal de Música de Premià de Mar
Al Ras
COMMENT:Preu: Gratuït
DESCRIPTION:a càrrec del violinsta Casey Driessen
URL:https://premiademar.cat/document.php?id=25359
END:VEVENT
END:VCALENDAR