BEGIN:VCALENDAR
VERSION:2.0
PRODID:-//Plone.org//NONSGML plone.app.event//EN
X-WR-TIMEZONE:Europe/Madrid
BEGIN:VEVENT
SUMMARY:Copa Catalana de Pumptrack 2023
DTSTART;TZID=Europe/Madrid;VALUE=DATE-TIME:20231029T100000
DTEND;TZID=Europe/Madrid;VALUE=DATE-TIME:20231029T110000
DTSTAMP;VALUE=DATE-TIME:20260422T214607Z
UID:6a04ab74c53bd2f3a6b31950a62959a7
CREATED;VALUE=DATE-TIME:20231029T000000Z
CATEGORIES:Mostra,Esports,Activitats
LOCATION:Port de Premià de Mar - Camí Ral, s/n
ORGANIZER:Associació esportiva A tot i Amb Tot
COMMENT:Col·labora: Ajuntament de Premià de Mar
Federació Catalana de Ciclisme
Preu: Gratuït
Durada: Fins les 14 hores
DESCRIPTION:Mini Pumptrack Kids I Open
URL:https://premiademar.cat/document.php?id=25394
END:VEVENT
END:VCALENDAR