BEGIN:VCALENDAR
VERSION:2.0
PRODID:-//Plone.org//NONSGML plone.app.event//EN
X-WR-TIMEZONE:Europe/Madrid
BEGIN:VEVENT
SUMMARY:Sortida germanor per a la Marató
DTSTART;TZID=Europe/Madrid;VALUE=DATE-TIME:20231203T090000
DTEND;TZID=Europe/Madrid;VALUE=DATE-TIME:20231203T100000
DTSTAMP;VALUE=DATE-TIME:20260421T120831Z
UID:c577b189bc004e3359f635399cf804b8
CREATED;VALUE=DATE-TIME:20231203T000000Z
CATEGORIES:Esports
LOCATION:La fàbrica (Premià de Dalt)
ORGANIZER:Club Esportiu Katrines
COMMENT:Preu: Donatius per la marató
DESCRIPTION:La Marató de la salut sexual i reproductiva
URL:https://premiademar.cat/document.php?id=25601
END:VEVENT
END:VCALENDAR