BEGIN:VCALENDAR
VERSION:2.0
PRODID:-//Plone.org//NONSGML plone.app.event//EN
X-WR-TIMEZONE:Europe/Madrid
BEGIN:VEVENT
SUMMARY:Play Back a càrrec del grup Il.lusions
DTSTART;TZID=Europe/Madrid;VALUE=DATE-TIME:20231209T170000
DTEND;TZID=Europe/Madrid;VALUE=DATE-TIME:20231209T180000
DTSTAMP;VALUE=DATE-TIME:20260424T140936Z
UID:11666a8e90e043dba960fd11813c9917
CREATED;VALUE=DATE-TIME:20231209T000000Z
CATEGORIES:Cultura popular,Activitats
LOCATION:Casal de Lourdes, Lourdes 10
ORGANIZER:Associació de Persones d'Edat
COMMENT:Preu: Donatius per la marató
DESCRIPTION:La Marató de la salut sexual i reproductiva
URL:https://premiademar.cat/document.php?id=25603
END:VEVENT
END:VCALENDAR