BEGIN:VCALENDAR
VERSION:2.0
PRODID:-//Plone.org//NONSGML plone.app.event//EN
X-WR-TIMEZONE:Europe/Madrid
BEGIN:VEVENT
SUMMARY:Rifa per a la Marató
DTSTART;TZID=Europe/Madrid;VALUE=DATE-TIME:20231209T103000
DTEND;TZID=Europe/Madrid;VALUE=DATE-TIME:20231209T113000
DTSTAMP;VALUE=DATE-TIME:20260424T175246Z
UID:edbd7db3a1994552634117428172c16c
CREATED;VALUE=DATE-TIME:20231209T000000Z
CATEGORIES:Activitats
LOCATION:Cambra Agrària, Camí Ral 29
ORGANIZER:CONEX
COMMENT:Preu: Donatius per la marató
DESCRIPTION:La Marató de la salut sexual i reproductiva
URL:https://premiademar.cat/document.php?id=25605
END:VEVENT
END:VCALENDAR