BEGIN:VCALENDAR
VERSION:2.0
PRODID:-//Plone.org//NONSGML plone.app.event//EN
X-WR-TIMEZONE:Europe/Madrid
BEGIN:VEVENT
SUMMARY:Cicle de pel·lícules d'anime: bola de Drac: el Superheroi
DTSTART;TZID=Europe/Madrid;VALUE=DATE-TIME:20231227T200000
DTEND;TZID=Europe/Madrid;VALUE=DATE-TIME:20231227T210000
DTSTAMP;VALUE=DATE-TIME:20260422T201652Z
UID:f60aeff353ef0b8a96cb92ca70f1a69e
CREATED;VALUE=DATE-TIME:20231227T000000Z
CATEGORIES:Cinema,Activitats
LOCATION:Espai l'Amistat - Carrer de Sant Antoni, 60
ORGANIZER:Ajuntament de Premià de Mar
COMMENT:Preu: Gratuït.  Edat recomanda a partir de 12 anys.
Durada: Totes les projeccions es faran a l'Espai l'Amistat.
El cicle és gratuït i les pel·lícules són en català.
El cicle està acompanyat d'altres activitats.
DESCRIPTION:Nadal d'Anime
URL:https://premiademar.cat/document.php?id=25643
END:VEVENT
END:VCALENDAR