BEGIN:VCALENDAR
VERSION:2.0
PRODID:-//Plone.org//NONSGML plone.app.event//EN
X-WR-TIMEZONE:Europe/Madrid
BEGIN:VEVENT
SUMMARY:Estació de cartes dels Reis Mags
DTSTART;TZID=Europe/Madrid;VALUE=DATE-TIME:20240102T170000
DTEND;TZID=Europe/Madrid;VALUE=DATE-TIME:20240102T180000
DTSTAMP;VALUE=DATE-TIME:20260421T135023Z
UID:b964f0a34d1dc152338b2a8d48f2423b
CREATED;VALUE=DATE-TIME:20240102T000000Z
CATEGORIES:Cultura popular,Teatre i altres espectacles,Activitats
LOCATION:Escola La Lió - Joan Prim, 30
ORGANIZER:Ajuntament de Premià de Mar
COMMENT:Col·labora: La Caixa del Trons i Simplement Diables
Preu: Gratuït
Durada: De 17 a 20 h.
URL:https://premiademar.cat/document.php?id=25648
END:VEVENT
END:VCALENDAR