BEGIN:VCALENDAR
VERSION:2.0
PRODID:-//Plone.org//NONSGML plone.app.event//EN
X-WR-TIMEZONE:Europe/Madrid
BEGIN:VEVENT
SUMMARY:Jocs romans de taula per a tota la família
DTSTART;TZID=Europe/Madrid;VALUE=DATE-TIME:20231210T180000
DTEND;TZID=Europe/Madrid;VALUE=DATE-TIME:20231210T190000
DTSTAMP;VALUE=DATE-TIME:20260424T155351Z
UID:f1bf2faad96ecddbc29707ca636a9482
CREATED;VALUE=DATE-TIME:20231210T000000Z
CATEGORIES:Activitats familiars
LOCATION:Biblioteca Martí Rosselló i Lloveras - Carretera de Vilassar de Dalt, 100
ORGANIZER:Museu Romà
COMMENT:Preu: 2&euro;
URL:https://premiademar.cat/document.php?id=25665
END:VEVENT
END:VCALENDAR