BEGIN:VCALENDAR
VERSION:2.0
PRODID:-//Plone.org//NONSGML plone.app.event//EN
X-WR-TIMEZONE:Europe/Madrid
BEGIN:VEVENT
SUMMARY:Activitats infantils
DTSTART;TZID=Europe/Madrid;VALUE=DATE-TIME:20240103T100000
DTEND;TZID=Europe/Madrid;VALUE=DATE-TIME:20240103T110000
DTSTAMP;VALUE=DATE-TIME:20260421T140133Z
UID:27831b82808f852eb4354f99da036c56
CREATED;VALUE=DATE-TIME:20240102T000000Z
CATEGORIES:Esports,Activitats familiars,Activitats
LOCATION:Escola La Lió - Joan Prim, 30
ORGANIZER:Ajuntament de Premià de Mar
COMMENT:Preu: Cal aportar un tiquet de compra de qualsevol establiment de Premià de Mar
Durada: de 10 a 13h i de 17 a 20h
DESCRIPTION:Al recinte de la Lió
URL:https://premiademar.cat/document.php?id=25700
END:VEVENT
END:VCALENDAR