BEGIN:VCALENDAR
VERSION:2.0
PRODID:-//Plone.org//NONSGML plone.app.event//EN
X-WR-TIMEZONE:Europe/Madrid
BEGIN:VEVENT
SUMMARY:Yo, capitán (VOSE)
DTSTART;TZID=Europe/Madrid;VALUE=DATE-TIME:20240129T200000
DTEND;TZID=Europe/Madrid;VALUE=DATE-TIME:20240129T210000
DTSTAMP;VALUE=DATE-TIME:20260424T155627Z
UID:92eae91da19f2abcd434816744dfdae1
CREATED;VALUE=DATE-TIME:20240129T000000Z
CATEGORIES:Cinema,Activitats
LOCATION:Espai l'Amistat - Carrer de Sant Antoni, 60
ORGANIZER:Ajuntament de Premià de Mar
COMMENT:Preu: 4,50 &euro;
DESCRIPTION:Cinema a l'Espai l'Amistat
URL:https://premiademar.cat/document.php?id=25936
END:VEVENT
END:VCALENDAR