BEGIN:VCALENDAR
VERSION:2.0
PRODID:-//Plone.org//NONSGML plone.app.event//EN
X-WR-TIMEZONE:Europe/Madrid
BEGIN:VEVENT
SUMMARY:ATENCIÓ ACTE SUSPÈS XXVI Baixada d'andròmines
DTSTART;TZID=Europe/Madrid;VALUE=DATE-TIME:20240203T170000
DTEND;TZID=Europe/Madrid;VALUE=DATE-TIME:20240203T180000
DTSTAMP;VALUE=DATE-TIME:20260425T002959Z
UID:c967845d2a2183b405712c8ef4f585d4
CREATED;VALUE=DATE-TIME:20240203T000000Z
CATEGORIES:Activitats familiars,Activitats
LOCATION:Centre Esportiu Municipal Premià (CEMP) - Carrer Francesc Mas i Abril, 13 y 16
ORGANIZER:Ajuntament de Premià de Mar
COMMENT:Col·labora: Comissió de la Baixada d'andròmines
Preu: Gratuït
DESCRIPTION:Festa Major Hivern i Carnaval 2024
URL:https://premiademar.cat/document.php?id=25968
END:VEVENT
END:VCALENDAR