BEGIN:VCALENDAR
VERSION:2.0
PRODID:-//Plone.org//NONSGML plone.app.event//EN
X-WR-TIMEZONE:Europe/Madrid
BEGIN:VEVENT
SUMMARY:Posem a caldo! Els versots al teatre!
DTSTART;TZID=Europe/Madrid;VALUE=DATE-TIME:20240203T200000
DTEND;TZID=Europe/Madrid;VALUE=DATE-TIME:20240203T210000
DTSTAMP;VALUE=DATE-TIME:20260425T003053Z
UID:e2e216e5de1513b1a3fe386c245259b2
CREATED;VALUE=DATE-TIME:20240203T000000Z
CATEGORIES:Activitats familiars,Activitats
LOCATION:Espai l'Amistat - Carrer de Sant Antoni, 60
ORGANIZER:Ajuntament de Premià de Mar
COMMENT:Col·labora: De Bòlit!
Preu: Gratuït
DESCRIPTION:Festa Major Hivern i Carnaval 2024
URL:https://premiademar.cat/document.php?id=25970
END:VEVENT
END:VCALENDAR