BEGIN:VCALENDAR
VERSION:2.0
PRODID:-//Plone.org//NONSGML plone.app.event//EN
X-WR-TIMEZONE:Europe/Madrid
BEGIN:VEVENT
SUMMARY:Posem a caldo! Els versots infantils al teatre!
DTSTART;TZID=Europe/Madrid;VALUE=DATE-TIME:20240204T000000
DTEND;TZID=Europe/Madrid;VALUE=DATE-TIME:20240204T010000
DTSTAMP;VALUE=DATE-TIME:20260424T211733Z
UID:14a0a4d2c375875e43674b4812252c96
CREATED;VALUE=DATE-TIME:20240204T000000Z
CATEGORIES:Activitats familiars,Cultura popular
LOCATION:Espai l'Amistat - Carrer de Sant Antoni, 60
ORGANIZER:Ajuntament de Premià de Mar
COMMENT:Col·labora: De Bòlit!
Preu: Gratuït
DESCRIPTION:Festa Major Hivern i Carnaval 2024
URL:https://premiademar.cat/document.php?id=25977
END:VEVENT
END:VCALENDAR