BEGIN:VCALENDAR
VERSION:2.0
PRODID:-//Plone.org//NONSGML plone.app.event//EN
X-WR-TIMEZONE:Europe/Madrid
BEGIN:VEVENT
SUMMARY:Ball de Carnaval amb el grup de versions Campikipugui i la PD Onea
DTSTART;TZID=Europe/Madrid;VALUE=DATE-TIME:20240210T230000
DTEND;TZID=Europe/Madrid;VALUE=DATE-TIME:20240211T000000
DTSTAMP;VALUE=DATE-TIME:20260422T205940Z
UID:bce0170e1a21a80f87b27a43a3f6575a
CREATED;VALUE=DATE-TIME:20240210T000000Z
CATEGORIES:Activitats familiars,Cultura popular,Música
LOCATION:Espai l'Amistat - Carrer de Sant Antoni, 60
ORGANIZER:Ajuntament de Premià de Mar
COMMENT:Col·labora: De Bòlit!
Preu: Gratuït
DESCRIPTION:Festa Major Hivern i Carnaval 2024
URL:https://premiademar.cat/document.php?id=25984
END:VEVENT
END:VCALENDAR