BEGIN:VCALENDAR
VERSION:2.0
PRODID:-//Plone.org//NONSGML plone.app.event//EN
X-WR-TIMEZONE:Europe/Madrid
BEGIN:VEVENT
SUMMARY:Cercavila cap al Carnaval infantil
DTSTART;TZID=Europe/Madrid;VALUE=DATE-TIME:20240211T113000
DTEND;TZID=Europe/Madrid;VALUE=DATE-TIME:20240211T123000
DTSTAMP;VALUE=DATE-TIME:20260422T205333Z
UID:1c1e82ed2f97216fbc9de00b4c883a42
CREATED;VALUE=DATE-TIME:20240211T000000Z
CATEGORIES:Activitats familiars,Cultura popular,Activitats
LOCATION:Plaça Nova - Plaça Nova
ORGANIZER:Ajuntament de Premià de Mar
COMMENT:Col·labora: Escola de Música Municipal de Premià de Mar i De Bòlit!
Preu: Gratuït
DESCRIPTION:Festa Major Hivern i Carnaval 2024
URL:https://premiademar.cat/document.php?id=25985
END:VEVENT
END:VCALENDAR