BEGIN:VCALENDAR
VERSION:2.0
PRODID:-//Plone.org//NONSGML plone.app.event//EN
X-WR-TIMEZONE:Europe/Madrid
BEGIN:VEVENT
SUMMARY:XXXVI Rua de Carnaval
DTSTART;TZID=Europe/Madrid;VALUE=DATE-TIME:20240211T170000
DTEND;TZID=Europe/Madrid;VALUE=DATE-TIME:20240211T180000
DTSTAMP;VALUE=DATE-TIME:20260422T205318Z
UID:c3274265a157669cdb988854f52f0a86
CREATED;VALUE=DATE-TIME:20240211T000000Z
CATEGORIES:Activitats familiars,Cultura popular,Activitats
LOCATION:Des de la plaça Joan Coromines
ORGANIZER:Ajuntament de Premià de Mar
COMMENT:Preu: Gratuït
DESCRIPTION:Festa Major Hivern i Carnaval 2024
URL:https://premiademar.cat/document.php?id=25989
END:VEVENT
END:VCALENDAR