BEGIN:VCALENDAR
VERSION:2.0
PRODID:-//Plone.org//NONSGML plone.app.event//EN
X-WR-TIMEZONE:Europe/Madrid
BEGIN:VEVENT
SUMMARY:Testament del Rei Carnestoltes i enterrament de la sardina
DTSTART;TZID=Europe/Madrid;VALUE=DATE-TIME:20240214T173000
DTEND;TZID=Europe/Madrid;VALUE=DATE-TIME:20240214T183000
DTSTAMP;VALUE=DATE-TIME:20260424T155514Z
UID:9d0a963f8786a9193fde6d1cacf4eace
CREATED;VALUE=DATE-TIME:20240214T000000Z
CATEGORIES:Activitats familiars,Cultura popular,Activitats
LOCATION:Plaça Països Catalans - Plaça Països Catalans
ORGANIZER:Ajuntament de Premià de Mar
COMMENT:Col·labora: De Bòlit!
Preu: Gratuït
DESCRIPTION:Festa Major Hivern i Carnaval 2024
URL:https://premiademar.cat/document.php?id=25992
END:VEVENT
END:VCALENDAR