BEGIN:VCALENDAR
VERSION:2.0
PRODID:-//Plone.org//NONSGML plone.app.event//EN
X-WR-TIMEZONE:Europe/Madrid
BEGIN:VEVENT
SUMMARY:Taller de jocs de taula romans
DTSTART;TZID=Europe/Madrid;VALUE=DATE-TIME:20240211T120000
DTEND;TZID=Europe/Madrid;VALUE=DATE-TIME:20240211T130000
DTSTAMP;VALUE=DATE-TIME:20260422T205231Z
UID:753d239105cff4dbcd28d46b2e0b69c0
CREATED;VALUE=DATE-TIME:20240211T000000Z
CATEGORIES:Activitats familiars
LOCATION:Biblioteca Martí Rosselló i Lloveras. Sala Moragas - Carretera de Vilassar de Dalt, 100
ORGANIZER:Museu Romà
COMMENT:Preu: 2&euro; x persona (nens inclòs)
Durada: 2 hores
DESCRIPTION:Diumenge d'activitats al museu
URL:https://premiademar.cat/document.php?id=26006
END:VEVENT
END:VCALENDAR