BEGIN:VCALENDAR
VERSION:2.0
PRODID:-//Plone.org//NONSGML plone.app.event//EN
X-WR-TIMEZONE:Europe/Madrid
BEGIN:VEVENT
SUMMARY:Los que se quedan
DTSTART;TZID=Europe/Madrid;VALUE=DATE-TIME:20240211T200000
DTEND;TZID=Europe/Madrid;VALUE=DATE-TIME:20240211T210000
DTSTAMP;VALUE=DATE-TIME:20260423T002100Z
UID:07b27100632308beb6dff244c6fff464
CREATED;VALUE=DATE-TIME:20240211T000000Z
CATEGORIES:Cinema,Activitats
LOCATION:Espai l'Amistat - Carrer de Sant Antoni, 60
ORGANIZER:Ajuntament de Premià de Mar
COMMENT:Preu: 6,50 &euro;
DESCRIPTION:Cinema Espai l'Amistat
URL:https://premiademar.cat/document.php?id=26024
END:VEVENT
END:VCALENDAR