BEGIN:VCALENDAR
VERSION:2.0
PRODID:-//Plone.org//NONSGML plone.app.event//EN
X-WR-TIMEZONE:Europe/Madrid
BEGIN:VEVENT
SUMMARY:Cita Prèvia Renovació DNI
DTSTART;TZID=Europe/Madrid;VALUE=DATE-TIME:20240222T100000
DTEND;TZID=Europe/Madrid;VALUE=DATE-TIME:20240222T110000
DTSTAMP;VALUE=DATE-TIME:20260422T202021Z
UID:20c9615ddc086c5d063133e324086f07
CREATED;VALUE=DATE-TIME:20240222T000000Z
CATEGORIES:Activitats
LOCATION:Centre Cívic - Esperança, 19
COMMENT:Durada: de 10 h fins que s'acabin les places
DESCRIPTION:Es donarà prioritat a la gent gran o a les persones amb dificultat de mobilitat. La renovació serà el dia 27 de febrer de 9 a 13 h al Centre Cívic
URL:https://premiademar.cat/document.php?id=26039
END:VEVENT
END:VCALENDAR