BEGIN:VCALENDAR
VERSION:2.0
PRODID:-//Plone.org//NONSGML plone.app.event//EN
X-WR-TIMEZONE:Europe/Madrid
BEGIN:VEVENT
SUMMARY:Jo sóc més de King Kong que de Kate Moss
DTSTART;TZID=Europe/Madrid;VALUE=DATE-TIME:20240305T193000
DTEND;TZID=Europe/Madrid;VALUE=DATE-TIME:20240305T203000
DTSTAMP;VALUE=DATE-TIME:20260424T192849Z
UID:d9ec516991dd4fa87ec8796567ec431a
CREATED;VALUE=DATE-TIME:20240305T000000Z
CATEGORIES:Música
LOCATION:Casa de la Dona - C/ Joan XXIII, 2 &ndash; 8 Nau 1
ORGANIZER:A càrrec de Mireia Tejero
COMMENT:Col·labora: Escola Municipal de Música
Preu: Activitat gratuïta
DESCRIPTION:Xerrada i Jam-session
URL:https://premiademar.cat/document.php?id=26141
END:VEVENT
END:VCALENDAR