BEGIN:VCALENDAR
VERSION:2.0
PRODID:-//Plone.org//NONSGML plone.app.event//EN
X-WR-TIMEZONE:Europe/Madrid
BEGIN:VEVENT
SUMMARY:Poesia i Jazz
DTSTART;TZID=Europe/Madrid;VALUE=DATE-TIME:20240319T201500
DTEND;TZID=Europe/Madrid;VALUE=DATE-TIME:20240319T211500
DTSTAMP;VALUE=DATE-TIME:20260421T224534Z
UID:4c1a686cb2a984b7a5027f130fbe5717
CREATED;VALUE=DATE-TIME:20240319T000000Z
CATEGORIES:Música,Lletres i diàlegs
LOCATION:Auditori de l'Escola Municipal de Música - Carretera Vilassar de Dalt, 52
ORGANIZER:Escola Municipal de Música de Premià de Mar
COMMENT:Col·labora: Art Primilia
Associació de Relataires en Català
Preu: Gratis
DESCRIPTION:per celebrar el Dia Mundial de la Poesia
URL:https://premiademar.cat/document.php?id=26533
END:VEVENT
END:VCALENDAR