BEGIN:VCALENDAR
VERSION:2.0
PRODID:-//Plone.org//NONSGML plone.app.event//EN
X-WR-TIMEZONE:Europe/Madrid
BEGIN:VEVENT
SUMMARY:Collage a càrrec de Bot Project
DTSTART;TZID=Europe/Madrid;VALUE=DATE-TIME:20240504T180000
DTEND;TZID=Europe/Madrid;VALUE=DATE-TIME:20240504T190000
DTSTAMP;VALUE=DATE-TIME:20260419T210515Z
UID:f12c3b4be3fc04d782a425a724caf370
CREATED;VALUE=DATE-TIME:20240504T000000Z
CATEGORIES:Activitats familiars,Teatre i altres espectacles,Activitats
LOCATION:Plaça Països Catalans - Plaça Països Catalans
ORGANIZER:Ajuntament de Premià de Mar
COMMENT:Preu: Gratuït
Durada: Durada: 35 minuts
DESCRIPTION:Festival de circ
URL:https://premiademar.cat/document.php?id=26598
END:VEVENT
END:VCALENDAR